BEGIN:VCALENDAR
VERSION:2.0
PRODID:-//ChamberMaster//Event Calendar 2.0//EN
METHOD:PUBLISH
X-PUBLISHED-TTL:P3D
REFRESH-INTERVAL:P3D
CALSCALE:GREGORIAN
BEGIN:VEVENT
DTSTART:20220113T173000Z
DTEND:20220113T190000Z
X-MICROSOFT-CDO-ALLDAYEVENT:FALSE
SUMMARY:State of the City Luncheon
DESCRIPTION:Coppell Mayor Wes Mays will present the annual "State of the City" address at 11:30 am on Thursday\, Jan. 13. The luncheon will be held at the Coppell Arts Center with catering by J. Macklin's Grill. Mayor Mays will review the 2022 vision for the City and take questions from the audience.
X-ALT-DESC;FMTTYPE=text/html:Coppell Mayor Wes Mays will present the annual &ldquo\;State of the City&rdquo\; address at 11:30 am on Thursday\, Jan. 13. The luncheon will be held at the Coppell Arts Center with catering by J. Macklin&#39\;s Grill. Mayor Mays will review the 2022 vision for the City and take questions from the audience.
LOCATION:Coppell Arts Center 505 Travis Street Coppell\, TX 75019
UID:e.607.21292
SEQUENCE:3
DTSTAMP:20260424T134327Z
URL:https://business.coppellchamber.org/events/details/state-of-the-city-luncheon-21292
END:VEVENT

END:VCALENDAR
