BEGIN:VCALENDAR
VERSION:2.0
PRODID:-//ChamberMaster//Event Calendar 2.0//EN
METHOD:PUBLISH
X-PUBLISHED-TTL:P3D
REFRESH-INTERVAL:P3D
CALSCALE:GREGORIAN
BEGIN:VEVENT
DTSTART:20260210T173000Z
DTEND:20260210T190000Z
X-MICROSOFT-CDO-ALLDAYEVENT:FALSE
SUMMARY:State of the City at the Monthly Membership Luncheon
DESCRIPTION:The Coppell Chamber of Commerce invites you to the State of the City Luncheon at the Coppell Arts Center. This event offers an invaluable opportunity to hear Mayor May's insights on the city's current economic landscape\, upcoming initiatives\, and vision for the business community. Network with local leaders and gain perspectives on how Coppell is shaping a vibrant future for businesses. Mark your calendar for this engaging and informative occasion!
X-ALT-DESC;FMTTYPE=text/html:The Coppell Chamber of Commerce invites you to the State of the City Luncheon at the Coppell Arts Center. This event offers an invaluable opportunity to hear Mayor May&#39\;s insights on the city&#39\;s current economic landscape\, upcoming initiatives\, and vision for the business community. Network with local leaders and gain perspectives on how Coppell is shaping a vibrant future for businesses. Mark your calendar for this engaging and informative occasion!
LOCATION:Coppell Arts Center 505 Travis Dr. Coppell\, TX
UID:e.607.22930
SEQUENCE:3
DTSTAMP:20260421T175808Z
URL:https://business.coppellchamber.org/events/details/state-of-the-city-at-the-monthly-membership-luncheon-22930
END:VEVENT

END:VCALENDAR
