BEGIN:VCALENDAR
VERSION:2.0
PRODID:-//ChamberMaster//Event Calendar 2.0//EN
METHOD:PUBLISH
X-PUBLISHED-TTL:P3D
REFRESH-INTERVAL:P3D
CALSCALE:GREGORIAN
BEGIN:VEVENT
DTSTART:20180720T180000Z
DTEND:20180720T193000Z
X-MICROSOFT-CDO-ALLDAYEVENT:FALSE
SUMMARY:Splish Splash Bash: Water and Heat Safety
DESCRIPTION:For children in grades K-5. Students in this class will learn about how to be safe in the summer sun and when finding relief in the water. Topics will include general water and pool safety practices\, open water safety (life jackets)\, and heat safety. To cap off the class with some fun\, students will then be treated to a water balloon fight out on Safety Town! Please dress your child(ren) accordingly for water activities. Bring a towel\, change of clothes\, and sunscreen.\n\n \n\nFor more information or to register visit\, lifesafetypark.org.
X-ALT-DESC;FMTTYPE=text/html:<em><span style="background-image:initial\;background-position:initial\;background-size:initial\;background-repeat:initial\;background-attachment:initial\;background-origin:initial\;background-clip:initial\;"><span style="color:black\;"><span style="font-family:calibri\,sans-serif\;">For children in grades K-5.</span></span></span></em><span style="background-image:initial\;background-position:initial\;background-size:initial\;background-repeat:initial\;background-attachment:initial\;background-origin:initial\;background-clip:initial\;"><span style="color:black\;"><span style="font-family:calibri\,sans-serif\;">&nbsp\;Students in this class will learn about how to be safe in the summer sun and when finding relief in the water. Topics will include general water and pool safety practices\, open water safety (life jackets)\, and heat safety. To cap off the class with some fun\, students will then be treated to a water balloon fight out on Safety Town! Please dress your child(ren) accordingly for water activities. Bring a towel\,&nbsp\;change of clothes\, and sunscreen.</span></span></span><br />\n&nbsp\;<br />\n<span style="background-image:initial\;background-position:initial\;background-size:initial\;background-repeat:initial\;background-attachment:initial\;background-origin:initial\;background-clip:initial\;"><span style="color:black\;"><span style="font-family:calibri\,sans-serif\;">For more information or to register visit\, lifesafetypark.org.&nbsp\;</span></span></span>
LOCATION:Life Safety Park 820 S. Coppell Road
UID:e.607.16549
SEQUENCE:3
DTSTAMP:20260422T140509Z
URL:https://business.coppellchamber.org/events/details/splish-splash-bash-water-and-heat-safety-16549
END:VEVENT

END:VCALENDAR
