BEGIN:VCALENDAR
VERSION:2.0
PRODID:-//ChamberMaster//Event Calendar 2.0//EN
METHOD:PUBLISH
X-PUBLISHED-TTL:P3D
REFRESH-INTERVAL:P3D
CALSCALE:GREGORIAN
BEGIN:VEVENT
DTSTART:20260425T150000Z
DTEND:20260425T160000Z
X-MICROSOFT-CDO-ALLDAYEVENT:FALSE
SUMMARY:North Dallas Homebuyer Seminar
DESCRIPTION:Ready to dive into homebuying tips and tricks that make the process way less stressful?\n\n\n\n\nFirst-Time Homebuyer Workshop (FREE + Breakfast!)\n\nReady to dive into the world of home buying? Thinking about buying a home but not sure where to start?\n\nYou're not alone and honestly\, the process has changed a lot over the past few years. That's exactly why we're hosting this free\, in-person workshop to break it all down in a simple\, real-world way.\n\nJoin local real estate experts MacKenzie Mitchell + Rob Mitchell and lender Ken Whisler with PrimeLending for a value-packed morning designed to give you clarity and confidence.\n\nWe will have a 30-minute Q&A after our workshop for anyone who has questions or wants to set up a private consultation.
X-ALT-DESC;FMTTYPE=text/html:<div>\n<div>\n<p>Ready to dive into homebuying tips and tricks that make the process way less stressful?</p>\n</div>\n</div>\n\n<div>\n<h2>First-Time Homebuyer Workshop (FREE + Breakfast!)</h2>\n\n<p>Ready to dive into the world of home buying? Thinking about buying a home but not sure where to start?</p>\n\n<p>You&rsquo\;re not alone and honestly\, the process has changed a lot over the past few years. That&rsquo\;s exactly why we&rsquo\;re hosting this&nbsp\;free\, in-person workshop&nbsp\;to break it all down in a simple\, real-world way.</p>\n\n<p>Join local real estate experts&nbsp\;MacKenzie Mitchell + Rob Mitchell&nbsp\;and lender&nbsp\;Ken Whisler with PrimeLending&nbsp\;for a value-packed morning designed to give you clarity and confidence.</p>\n\n<p>We will have a 30-minute Q&amp\;A after our workshop for anyone who has questions or wants to set up a private consultation.</p>\n</div>\n
LOCATION:The CORE 234 Parkway Boulevard Coppell\, TX 75019
UID:e.607.24095
SEQUENCE:3
DTSTAMP:20260421T192502Z
URL:https://business.coppellchamber.org/events/details/north-dallas-homebuyer-seminar-24095
END:VEVENT

END:VCALENDAR
