BEGIN:VCALENDAR
VERSION:2.0
PRODID:-//ChamberMaster//Event Calendar 2.0//EN
METHOD:PUBLISH
X-PUBLISHED-TTL:P3D
REFRESH-INTERVAL:P3D
CALSCALE:GREGORIAN
BEGIN:VEVENT
DTSTART:20260917T213000Z
DTEND:20260917T233000Z
X-MICROSOFT-CDO-ALLDAYEVENT:FALSE
SUMMARY:Leadership Coppell Alumni Meet Up
DESCRIPTION:Join us for a casual evening with fellow Leadership Coppell alumni! This mixer is open to all past participants of the program and is a great opportunity to catch up with classmates\, meet alumni from other years\, and strengthen connections within our community.\n\n\n\nLight hors d'oeuvres\n\nCash bar for all alcohol\n\n\n\n   Open to alumni of the Leadership Coppell Program
X-ALT-DESC;FMTTYPE=text/html:Join us for a casual evening with fellow Leadership Coppell alumni! This mixer is open to all past participants of the program and is a great opportunity to catch up with classmates\, meet alumni from other years\, and strengthen connections within our community.<br />\n<br />\n<span style="color: rgb(51\, 51\, 51)\; font-family: sans-serif\, Arial\, Verdana\, &quot\;Trebuchet MS&quot\;\; font-size: 13px\; background-color: rgb(255\, 255\, 255)\;">Light hors d&#39\;oeuvres</span><br style="color: rgb(51\, 51\, 51)\; font-family: sans-serif\, Arial\, Verdana\, &quot\;Trebuchet MS&quot\;\; font-size: 13px\;" />\n<span style="color: rgb(51\, 51\, 51)\; font-family: sans-serif\, Arial\, Verdana\, &quot\;Trebuchet MS&quot\;\; font-size: 13px\; background-color: rgb(255\, 255\, 255)\;">Cash bar for all alcohol</span><br />\n<br style="color: rgb(51\, 51\, 51)\; font-family: sans-serif\, Arial\, Verdana\, &quot\;Trebuchet MS&quot\;\; font-size: 13px\;" />\n<span style="color: rgb(51\, 51\, 51)\; font-family: sans-serif\, Arial\, Verdana\, &quot\;Trebuchet MS&quot\;\; font-size: 13px\; background-color: rgb(255\, 255\, 255)\;">&nbsp\; &nbsp\;</span><em style="color: rgb(51\, 51\, 51)\; font-family: sans-serif\, Arial\, Verdana\, &quot\;Trebuchet MS&quot\;\; font-size: 13px\;">Open to alumni of the Leadership Coppell Program</em>
LOCATION:Twisted Root Burger Co. 505 Houston St. Coppell\, TX 75019
UID:e.607.24094
SEQUENCE:3
DTSTAMP:20260424T143931Z
URL:https://business.coppellchamber.org/events/details/leadership-coppell-alumni-meet-up-24094
END:VEVENT

END:VCALENDAR
