BEGIN:VCALENDAR
VERSION:2.0
PRODID:-//ChamberMaster//Event Calendar 2.0//EN
METHOD:PUBLISH
X-PUBLISHED-TTL:P3D
REFRESH-INTERVAL:P3D
CALSCALE:GREGORIAN
BEGIN:VEVENT
DTSTART:20230506T140000Z
DTEND:20230506T050000Z
X-MICROSOFT-CDO-ALLDAYEVENT:FALSE
SUMMARY:Health & Wellness Expo and Fire Truck Pull
DESCRIPTION:Our 2023 Health & Wellness Community Expo\, presented by Coppell Family YMCA\, is a health and wellness event for the whole family! Come visit with\, and learn about\, our local businesses that support a healthy lifestyle (body & mind). Attendees will enjoy fitness classes\, stretching sessions\, chair massages\, health and wellness education - plus the NEW Fire Truck Pull competition! There's no cost to attend.\n\n\n\nFire Truck Pull Competition\n\nGet your team ready and test your strength in the ultimate game of tug-of-war against a fully loaded Coppell fire truck. Entry for a team of 12 is $200 or $20 for individuals.\n\n\n\nHealth & Wellness Expo\n\nDon't miss the opportunity to meet attendees and share marketing materials\, product samples and information. Booths are $200 for Chamber members\, $300 for future members.
X-ALT-DESC;FMTTYPE=text/html:Our 2023 Health &amp\; Wellness Community Expo\, presented by Coppell Family YMCA\, is a health and wellness event for the whole family! Come visit with\, and learn about\, our local businesses that support a healthy lifestyle (body &amp\; mind). Attendees will enjoy fitness classes\, stretching sessions\, chair massages\, health and wellness education - plus the NEW Fire Truck Pull competition! There&#39\;s no cost to attend.<br />\n<br />\n<strong>Fire Truck Pull Competition</strong><br />\nGet your team ready and test your strength in the ultimate game of tug-of-war against a fully loaded Coppell fire truck. Entry for a team of 12 is $200 or $20 for individuals.<br />\n<br />\n<strong>Health &amp\; Wellness Expo</strong><br />\nDon&#39\;t miss the opportunity to meet attendees and share marketing materials\, product samples and information. Booths are $200 for Chamber members\, $300 for future members.
LOCATION:Coppell Arts Center 505 Travis Street Coppell\, TX 75109
UID:e.607.21687
SEQUENCE:3
DTSTAMP:20260422T152717Z
URL:https://business.coppellchamber.org/events/details/health-wellness-expo-and-fire-truck-pull-21687
END:VEVENT

END:VCALENDAR
