BEGIN:VCALENDAR
VERSION:2.0
PRODID:-//ChamberMaster//Event Calendar 2.0//EN
METHOD:PUBLISH
X-PUBLISHED-TTL:P3D
REFRESH-INTERVAL:P3D
CALSCALE:GREGORIAN
BEGIN:VEVENT
DTSTART:20250424T190000Z
DTEND:20250424T203000Z
X-MICROSOFT-CDO-ALLDAYEVENT:FALSE
SUMMARY:Dementia Decoded at River Oaks Assisted Living & Memory Care
DESCRIPTION:Memory loss and confusion are often recognized as early signs of dementia\, but the journey can begin with subtle symptoms that can appear years beforehand. Join us in our discussion of Alzheimer's disease and other forms of dementia. Together\, we'll uncover the various types and early indicators of cognitive changes. Learn about seeking support and navigating life after a diagnosis\, empowering yourself and loved ones with knowledge and understanding.\n\n\n\nGuest Speaker: Dr. Najam Khan\, M.D\, P.A for Internal Medicine & Preventive Medicine
X-ALT-DESC;FMTTYPE=text/html:Memory loss and confusion are often recognized as early signs of dementia\, but the journey can begin with subtle symptoms that can appear years beforehand. Join us in our discussion of Alzheimer&rsquo\;s disease and other forms of dementia. Together\, we&rsquo\;ll uncover the various types and early indicators of cognitive changes. Learn about seeking support and navigating life after a diagnosis\, empowering yourself and loved ones with knowledge and understanding.<br />\n<br />\nGuest Speaker:&nbsp\;Dr. Najam Khan\, M.D\, P.A for Internal Medicine &amp\; Preventive Medicine
LOCATION:River Oaks Assisted Living & Memory Care 1530 E. Sandy Lake Road Coppell\, TX 75019
UID:e.607.23146
SEQUENCE:3
DTSTAMP:20260424T002834Z
URL:https://business.coppellchamber.org/events/details/dementia-decoded-at-river-oaks-assisted-living-memory-care-23146
END:VEVENT

END:VCALENDAR
