BEGIN:VCALENDAR
VERSION:2.0
PRODID:-//ChamberMaster//Event Calendar 2.0//EN
METHOD:PUBLISH
X-PUBLISHED-TTL:P3D
REFRESH-INTERVAL:P3D
CALSCALE:GREGORIAN
BEGIN:VEVENT
DTSTART;VALUE=DATE:20210917
DTEND;VALUE=DATE:20210918
TRANSP:TRANSPARENT
X-MICROSOFT-CDO-ALLDAYEVENT:TRUE
SUMMARY:Carson's Village 4th Annual Golf Tournament
DESCRIPTION:Carson's Village's largest fundraiser is our 4th Annual Golf Tournament scheduled for Friday\, September 17\, 2021 at Bear Creek West. During a year when client requests have increased dramatically and COVID has limited our fundraising opportunities\, we are hoping to have our most successful event ever!\n\n \n\nToday\, I invite everyone to join me in supporting Carson's Village:\n\n	Register yourself and three friends to play in the tournament at https://carsonsvillage.org/carsons-village-golf-tournament/.  \n	Visit Carson's Village's Facebook page and share the tournament information on your social media to invite your network to participate.\n	Become a sponsor   we still have openings for a Dinner Sponsor\, the Registration Sponsor\, Hole Sponsors\, raffle prize donors and more.\n\n \n\nThank you so much for your consideration. The proceeds from past tournaments have allowed us to serve more than 1\,000 families from all across the country. I hope you'll join us again this year and bring along others to participate.
X-ALT-DESC;FMTTYPE=text/html:Carson&rsquo\;s Village&rsquo\;s largest fundraiser is our&nbsp\;<a href="https://nam04.safelinks.protection.outlook.com/?url=https%3A%2F%2Fcarsonsvillage.org%2Fcarsons-village-golf-tournament%2F&amp\;data=04%7C01%7C%7Ca292332f203c415b35e508d95de27154%7C94bac54252444634b8496f85514675c8%7C0%7C0%7C637644049425363752%7CUnknown%7CTWFpbGZsb3d8eyJWIjoiMC4wLjAwMDAiLCJQIjoiV2luMzIiLCJBTiI6Ik1haWwiLCJXVCI6Mn0%3D%7C1000&amp\;sdata=%2FKiVoQVIeuFUzzn0nMdh940Wlwe4wbQBm6MCs6N0gGY%3D&amp\;reserved=0">4<sup>th</sup>&nbsp\;Annual Golf Tournament</a>&nbsp\;scheduled for Friday\, September 17\, 2021 at Bear Creek West. During a year when client requests have increased dramatically and COVID has limited our fundraising opportunities\, we are hoping to have our most successful event ever!<br />\n&nbsp\;<br />\nToday\, I invite everyone to join me in supporting Carson&rsquo\;s Village:\n<ul>\n	<li><strong>Register</strong>&nbsp\;yourself and three friends to play in the tournament at&nbsp\;<a href="https://nam04.safelinks.protection.outlook.com/?url=https%3A%2F%2Fcarsonsvillage.org%2Fcarsons-village-golf-tournament%2F&amp\;data=04%7C01%7C%7Ca292332f203c415b35e508d95de27154%7C94bac54252444634b8496f85514675c8%7C0%7C0%7C637644049425368731%7CUnknown%7CTWFpbGZsb3d8eyJWIjoiMC4wLjAwMDAiLCJQIjoiV2luMzIiLCJBTiI6Ik1haWwiLCJXVCI6Mn0%3D%7C1000&amp\;sdata=Esg1f1NTmACPPp28FGyvBp2qPH0LyUx442pDbWvxQ34%3D&amp\;reserved=0">https://carsonsvillage.org/carsons-village-golf-tournament/</a>. &nbsp\;</li>\n	<li>Visit Carson&rsquo\;s Village&rsquo\;s&nbsp\;<a href="https://nam04.safelinks.protection.outlook.com/?url=https%3A%2F%2Fwww.facebook.com%2Fsearch%2Ftop%3Fq%3Dcarson%2527s%2520village&amp\;data=04%7C01%7C%7Ca292332f203c415b35e508d95de27154%7C94bac54252444634b8496f85514675c8%7C0%7C0%7C637644049425373709%7CUnknown%7CTWFpbGZsb3d8eyJWIjoiMC4wLjAwMDAiLCJQIjoiV2luMzIiLCJBTiI6Ik1haWwiLCJXVCI6Mn0%3D%7C1000&amp\;sdata=ZfyS2p%2FOa6tQ2pHrgNqMUlvdRLwpb0yY8WJZXUDj6Pw%3D&amp\;reserved=0">Facebook page</a>&nbsp\;and&nbsp\;<strong>share</strong>&nbsp\;the tournament information on your social media to invite your network to participate.</li>\n	<li>Become a&nbsp\;<strong>sponsor</strong>&nbsp\;&ndash\; we still have openings for a&nbsp\;<a href="https://nam04.safelinks.protection.outlook.com/?url=https%3A%2F%2Fcarsonsvillage.org%2Fcarsons-village-golf-tournament%2F&amp\;data=04%7C01%7C%7Ca292332f203c415b35e508d95de27154%7C94bac54252444634b8496f85514675c8%7C0%7C0%7C637644049425378687%7CUnknown%7CTWFpbGZsb3d8eyJWIjoiMC4wLjAwMDAiLCJQIjoiV2luMzIiLCJBTiI6Ik1haWwiLCJXVCI6Mn0%3D%7C1000&amp\;sdata=KjUiZrvwEzRLdWEDX6TJYEg9ZEx0i39EAj5dK8n%2F7zk%3D&amp\;reserved=0">Dinner Sponsor\, the Registration Sponsor\, Hole Sponsors</a>\, raffle prize donors and more.</li>\n</ul>\n&nbsp\;<br />\nThank you so much for your consideration. The proceeds from past tournaments have allowed us to serve more than 1\,000 families from all across the country.&nbsp\;I hope you&rsquo\;ll join us again this year and bring along others to participate.
LOCATION:Bear Creek Golf Course - West 3500 Bear Creek Ct\, Dallas\, TX 75261
UID:e.607.21135
SEQUENCE:3
DTSTAMP:20260422T225958Z
URL:https://business.coppellchamber.org/events/details/carson-s-village-4th-annual-golf-tournament-21135
END:VEVENT

END:VCALENDAR
