BEGIN:VCALENDAR
VERSION:2.0
PRODID:-//ChamberMaster//Event Calendar 2.0//EN
METHOD:PUBLISH
X-PUBLISHED-TTL:P3D
REFRESH-INTERVAL:P3D
CALSCALE:GREGORIAN
BEGIN:VEVENT
DTSTART:20240620T210000Z
DTEND:20240620T230000Z
X-MICROSOFT-CDO-ALLDAYEVENT:FALSE
SUMMARY:Business Offline - J. Macklin's Grill
DESCRIPTION:Mark your calendars for the 3rd Thursday of every month for Business Offline\, our after-hours networking event hosted by member businesses. Enjoy complimentary drinks and hors d'oeuvres while you meet and mingle with the business leaders in our community.
X-ALT-DESC;FMTTYPE=text/html:Mark your calendars for the 3rd Thursday of every month for Business Offline\, our after-hours networking event hosted by member businesses. Enjoy complimentary drinks and hors d&#39\;oeuvres while you meet and mingle with the business leaders in our community.
LOCATION:J. Macklin's Grill 130 N. Denton Tap Road #120 Coppell\, TX 75019
UID:e.607.22067
SEQUENCE:3
DTSTAMP:20260424T132100Z
URL:https://business.coppellchamber.org/events/details/business-offline-j-macklin-s-grill-22067
END:VEVENT

END:VCALENDAR
