BEGIN:VCALENDAR
VERSION:2.0
PRODID:-//ChamberMaster//Event Calendar 2.0//EN
METHOD:PUBLISH
X-PUBLISHED-TTL:P3D
REFRESH-INTERVAL:P3D
CALSCALE:GREGORIAN
BEGIN:VEVENT
DTSTART:20260507T193000Z
DTEND:20260508T013000Z
X-MICROSOFT-CDO-ALLDAYEVENT:FALSE
SUMMARY:Andy's 40th Anniversary Tour!
DESCRIPTION:Celebrate our 40th anniversary with us on May 7th from 3pm-8pm.\n\n	Spin the wheel\n	Chance to win Andy's For a Year!\n	Andy's Merch\n	$2.00 one topping sundaes\n	Carter Blood Care bus
X-ALT-DESC;FMTTYPE=text/html:Celebrate our 40th anniversary with us on May 7th from 3pm-8pm.\n<ul>\n	<li>Spin the wheel</li>\n	<li>Chance to win Andy&#39\;s For a Year!</li>\n	<li>Andy&#39\;s Merch</li>\n	<li>$2.00 one topping sundaes</li>\n	<li>Carter Blood Care bus</li>\n</ul>\n
LOCATION:Andy's Frozen Custard Coppell: 180 W Sandys Lake Rd 75019
UID:e.607.24096
SEQUENCE:3
DTSTAMP:20260424T013113Z
URL:https://business.coppellchamber.org/events/details/andy-s-40th-anniversary-tour-24096
END:VEVENT

END:VCALENDAR
