BEGIN:VCALENDAR
VERSION:2.0
PRODID:-//ChamberMaster//Event Calendar 2.0//EN
METHOD:PUBLISH
X-PUBLISHED-TTL:P3D
REFRESH-INTERVAL:P3D
CALSCALE:GREGORIAN
BEGIN:VEVENT
DTSTART:20201005T130000Z
DTEND:20201005T200000Z
X-MICROSOFT-CDO-ALLDAYEVENT:FALSE
SUMMARY:27th Annual Golf Classic
DESCRIPTION:Held each fall for 27 years\, the Coppell Chamber Golf Tournament brings together local business leaders to enjoy fresh air and friendly competition on the greens. Golfers will make new business connections during this un-FORE-gettable afternoon that features: special contests\, goody bags stocked with gifts\, and great food. Foursomes and individual golfers are welcome to participate.\n\n \n\nNOT A GOLFER? NOT A PROBLEM!\n\nNever hit a golf ball\, but don't want to miss out on the fun? There are plenty of ways to get involved no golf skills required!\n\n \n\nSPONSORSHIP OPPORTUNITIES\n\nGain exposure for your business with one of many sponsorship opportunities priced to fit every budget starting at $200. Opportunities are limited and will fill up quickly. Contact Ellie Braxton Leveen to secure your spot today. \n\n \n\nMARKETING OPPORTUNITIES\n\nShowcase your company's services to local business leaders and gain new customers by donating a goody bag item or a raffle prize. Donors will be promoted through event signage and recognized from the podium.\n\n \n\nVOLUNTEER OPPORTUNITIES\n\nGet involved and make new connections by volunteering. Assignments will range from golfer registration to monitoring special contests. Interested in volunteering with the Coppell Chamber? Please let us know!
X-ALT-DESC;FMTTYPE=text/html:<br />\n<span style="language:en-US\;">Held each fall for 27 years\, the Coppell Chamber Golf Tournament brings together local business leaders to enjoy fresh air and friendly competition on the greens. Golfers will make new business connections during this un-FORE-gettable afternoon that features: special contests\, goody bags stocked with gifts\, and great food. Foursomes and individual golfers are welcome to participate.</span><br />\n&nbsp\;<br />\n<strong><span style="language:en-US\;">NOT A GOLFER? NOT A PROBLEM!</span></strong><br />\n<span style="language:en-US\;">Never hit a golf ball\, but don&rsquo\;t want to miss out on the fun? There are plenty of ways to get involved&ndash\;no golf skills required!</span><br />\n&nbsp\;<br />\n<strong><span style="language:en-US\;">SPONSORSHIP OPPORTUNITIES</span></strong><br />\n<span style="language:en-US\;">Gain exposure for your business with one of many sponsorship opportunities priced to fit every budget&ndash\;starting at $200. Opportunities are limited and will fill up quickly. Contact Ellie Braxton Leveen to secure your spot today. </span><br />\n&nbsp\;<br />\n<strong><span style="language:en-US\;">MARKETING OPPORTUNITIES</span></strong><br />\n<span style="language:en-US\;">Showcase your company&rsquo\;s services to local business leaders and gain new customers by donating a goody bag item or a raffle prize. Donors will be promoted through event signage and recognized from the podium.</span><br />\n&nbsp\;<br />\n<strong><span style="language:en-US\;">VOLUNTEER OPPORTUNITIES</span></strong><br />\n<span style="language:en-US\;">Get involved and make new connections by volunteering. Assignments will range from golfer registration to monitoring special contests. Interested in volunteering with the Coppell Chamber? Please let us know!</span><br />\n&nbsp\;
LOCATION:
UID:e.607.20080
SEQUENCE:3
DTSTAMP:20260423T223139Z
URL:https://business.coppellchamber.org/events/details/27th-annual-golf-classic-20080
END:VEVENT

END:VCALENDAR
